BEGIN:VCALENDAR
METHOD:PUBLISH
VERSION:2.0
PRODID:-//hacksw/handcal//NONSGML v1.0//EN
BEGIN:VEVENT
DTSTAMP:20260509T140000
DTSTART:20260509T140000
DTEND:20260509T140000
SUMMARY:Auction
LOCATION:32 Emily Street Leichhardt NSW 2040
DESCRIPTION:
UID:044c1c85-0c64-4ef0-a57f-b1745cf58c1c@enlivenai.com.au
END:VEVENT
END:VCALENDAR
