BEGIN:VCALENDAR
METHOD:PUBLISH
VERSION:2.0
PRODID:-//hacksw/handcal//NONSGML v1.0//EN
BEGIN:VEVENT
DTSTAMP:20260523T110000
DTSTART:20260523T110000
DTEND:20260523T110000
SUMMARY:Auction
LOCATION:156 Eastbourne Road Rosebud VIC 3939
DESCRIPTION:
UID:96eb874f-c040-4712-bcc7-c5b1ac121cc9@enlivenai.com.au
END:VEVENT
END:VCALENDAR
