BEGIN:VCALENDAR
METHOD:PUBLISH
VERSION:2.0
PRODID:-//hacksw/handcal//NONSGML v1.0//EN
BEGIN:VEVENT
DTSTAMP:20260517T103000
DTSTART:20260517T103000
DTEND:20260517T103000
SUMMARY:Auction
LOCATION:532 Glen Eira Road Caulfield VIC 3162
DESCRIPTION:
UID:3f3edaa6-a730-4939-99bb-1c2c42c81b6e@enlivenai.com.au
END:VEVENT
END:VCALENDAR
