BEGIN:VCALENDAR
METHOD:PUBLISH
VERSION:2.0
PRODID:-//hacksw/handcal//NONSGML v1.0//EN
BEGIN:VEVENT
DTSTAMP:20260521T170000
DTSTART:20260521T170000
DTEND:20260521T170000
SUMMARY:Auction
LOCATION:3 The Crescent Queanbeyan NSW 2620
DESCRIPTION:
UID:fe09ea0b-1c97-4f4e-8073-8c7d790b68e3@enlivenai.com.au
END:VEVENT
END:VCALENDAR
