BEGIN:VCALENDAR
METHOD:PUBLISH
VERSION:2.0
PRODID:-//hacksw/handcal//NONSGML v1.0//EN
BEGIN:VEVENT
DTSTAMP:20260425T150000
DTSTART:20260425T150000
DTEND:20260425T150000
SUMMARY:Auction
LOCATION:71/212-216 Mona Vale Road St Ives NSW 2075
DESCRIPTION:
UID:3076e268-247b-4d4b-8ae4-3d3cf88d934e@enlivenai.com.au
END:VEVENT
END:VCALENDAR
