BEGIN:VCALENDAR
METHOD:PUBLISH
VERSION:2.0
PRODID:-//hacksw/handcal//NONSGML v1.0//EN
BEGIN:VEVENT
DTSTAMP:20260516T120000
DTSTART:20260516T120000
DTEND:20260516T120000
SUMMARY:Auction
LOCATION:6/1 York Street Prahran VIC 3181
DESCRIPTION:
UID:558991ad-0b56-4fb6-a57b-9254ca14cc46@enlivenai.com.au
END:VEVENT
END:VCALENDAR
