BEGIN:VCALENDAR
METHOD:PUBLISH
VERSION:2.0
PRODID:-//hacksw/handcal//NONSGML v1.0//EN
BEGIN:VEVENT
DTSTAMP:20260516T160000
DTSTART:20260516T160000
DTEND:20260516T160000
SUMMARY:Auction
LOCATION:64 Bellevue Street North Parramatta NSW 2151
DESCRIPTION:
UID:e970ecfc-50d3-462e-a1c1-602f4a79120f@enlivenai.com.au
END:VEVENT
END:VCALENDAR
