BEGIN:VCALENDAR
METHOD:PUBLISH
VERSION:2.0
PRODID:-//hacksw/handcal//NONSGML v1.0//EN
BEGIN:VEVENT
DTSTAMP:20260523T153000
DTSTART:20260523T153000
DTEND:20260523T153000
SUMMARY:Auction
LOCATION:25/45 Trafalgar Street Annandale NSW 2038
DESCRIPTION:
UID:069fd422-c5ca-4280-9352-3b98964627a1@enlivenai.com.au
END:VEVENT
END:VCALENDAR
